BEGIN:VCALENDAR
VERSION:2.0
PRODID:-//Covenant Grace Baptist Church - ECPv6.15.20//NONSGML v1.0//EN
CALSCALE:GREGORIAN
METHOD:PUBLISH
X-WR-CALNAME:Covenant Grace Baptist Church
X-ORIGINAL-URL:https://www.covenantgracebaptist.church
X-WR-CALDESC:Events for Covenant Grace Baptist Church
REFRESH-INTERVAL;VALUE=DURATION:PT1H
X-Robots-Tag:noindex
X-PUBLISHED-TTL:PT1H
BEGIN:VTIMEZONE
TZID:Pacific/Auckland
BEGIN:STANDARD
TZOFFSETFROM:+1300
TZOFFSETTO:+1200
TZNAME:NZST
DTSTART:20170401T140000
END:STANDARD
BEGIN:DAYLIGHT
TZOFFSETFROM:+1200
TZOFFSETTO:+1300
TZNAME:NZDT
DTSTART:20170923T140000
END:DAYLIGHT
BEGIN:STANDARD
TZOFFSETFROM:+1300
TZOFFSETTO:+1200
TZNAME:NZST
DTSTART:20180331T140000
END:STANDARD
BEGIN:DAYLIGHT
TZOFFSETFROM:+1200
TZOFFSETTO:+1300
TZNAME:NZDT
DTSTART:20180929T140000
END:DAYLIGHT
BEGIN:STANDARD
TZOFFSETFROM:+1300
TZOFFSETTO:+1200
TZNAME:NZST
DTSTART:20190406T140000
END:STANDARD
BEGIN:DAYLIGHT
TZOFFSETFROM:+1200
TZOFFSETTO:+1300
TZNAME:NZDT
DTSTART:20190928T140000
END:DAYLIGHT
END:VTIMEZONE
BEGIN:VEVENT
DTSTART;VALUE=DATE:20180416
DTEND;VALUE=DATE:20180421
DTSTAMP:20260421T224447
CREATED:20180129T211022Z
LAST-MODIFIED:20180129T211449Z
UID:9858-1523836800-1524268799@www.covenantgracebaptist.church
SUMMARY:YC18: FRBCNZ Youth Camp 2018
DESCRIPTION:These annual Youth Camps are for young people aged 13-18\, particularly — though not exclusively — from churches in New Zealand that are Baptistic and Reformed. Oversight is provided by Fred Schaumkel\, Aaron Falconer (Elders at Shore Baptist Church)\, and Dafydd Hughes (the Pastor of Crosspoint Church\, Palmerston North). \nThis year’s theme is ‘Homeward Bound’ – Living Well as Strangers in this Foreign World.
URL:https://www.covenantgracebaptist.church/event/yc18-frbcnz-youth-camp-2018/
LOCATION:Camp Bentzon\, North Cove\, Kawau Island\, 9810
ATTACH;FMTTYPE=image/jpeg:https://www.covenantgracebaptist.church/wp-content/uploads/2018/01/FRBNZ-Youth-Camp-2018.jpg
ORGANIZER;CN="FRBCNZ Youth Camps":MAILTO:camps@rbc.org.nz
END:VEVENT
BEGIN:VEVENT
DTSTART;TZID=Pacific/Auckland:20180401T063000
DTEND;TZID=Pacific/Auckland:20180401T090000
DTSTAMP:20260421T224447
CREATED:20180219T032110Z
LAST-MODIFIED:20180219T033057Z
UID:9877-1522564200-1522573200@www.covenantgracebaptist.church
SUMMARY:Easter Sunday Sunrise Service
DESCRIPTION:Every year\, some hardened souls make the extreme effort to get out of bed early on Easter Sunday\, and head to the cliffs over Caroline Bay to watch the sunrise\, and remember that special morning 2000 years ago when Christ rose from his grave\, ALIVE! \nExact location to be confirmed closer to the time. Followed by breakfast at the Gregory’s house. \n\nBEWARE that this is the morning that Daylight Savings ends. You will need to put your clocks BACK one hour the previous night. Thankfully\, this will mean you get an extra hour of sleep that night.
URL:https://www.covenantgracebaptist.church/event/easter-sunday-sunrise-service/
LOCATION:The Beach\, Caroline Bay\, Timaru
ATTACH;FMTTYPE=image/jpeg:https://www.covenantgracebaptist.church/wp-content/uploads/2018/02/Easter-Sunday-Sunrise.jpg
ORGANIZER;CN="Covenant Grace Baptist Church":MAILTO:info@covenantgracebaptist.church
END:VEVENT
END:VCALENDAR